BEGIN:VCALENDAR
VERSION:2.0
PRODID:-//Jazzclub Leipzig e.V. //NONSGML Events //EN
CALSCALE:GREGORIAN
X-WR-CALNAME:Jazzclub Leipzig e.V.
BEGIN:VEVENT
X-CREATED:20230914T062038Z
UID:30306
DTEND;VALUE=DATE:20231016T223000
DTSTART;VALUE=DATE:20231016T203000
DTSTAMP:20260420T020021Z
LOCATION:UT Connewitz\, Wolfgang-Heinze-Straße 12 a\, 04277 Leipzig
DESCRIPTION:Doppelkonzert mit TOM SKINNER »VOICES OF BISHARA« - Die Schweizer Jazzflötistin Nancy Meier bringt ein selten gehörtes Format auf die Bühne: Querflötenquartett mit Schlagzeug.
SUMMARY:NANCELOT
ORGANIZER:Jazzclub Leipzig e.V.
URL;VALUE=URI:https://www.jazzclub-leipzig.de/kategorie-jazzclub/jazzclub-termine/nancelot/
TRANSP:OPAQUE
BEGIN:VALARM
ACTION:DISPLAY
TRIGGER;VALUE=DATE-TIME:20231016T193000Z
DESCRIPTION:Erinnerung an NANCELOT
END:VALARM
END:VEVENT
END:VCALENDAR
