BEGIN:VCALENDAR
VERSION:2.0
PRODID:-//Jazzclub Leipzig e.V. //NONSGML Events //EN
CALSCALE:GREGORIAN
X-WR-CALNAME:Jazzclub Leipzig e.V.
BEGIN:VEVENT
X-CREATED:20230914T061145Z
UID:30298
DTEND;VALUE=DATE:20231015T220000
DTSTART;VALUE=DATE:20231015T200000
DTSTAMP:20260420T035541Z
LOCATION:Philippuskirche\, Aurelienstraße 54\, 04177 Leipzig
DESCRIPTION:Doppelkonzert mit MARILYN MAZUR’S SHAMANIA - Die minimalistische Natur der Musik in Linda Fredrikssons Debütalbum »Juniper« (We Jazz Records) spiegelt einen kreativen Prozess wider, der von einer bewussten Isolation und einer Do-It-Yourself-Produktion geprägt ist: ein äußerst persönliches musikalisches Tagebuch.
SUMMARY:Linda Fredriksson »Juniper«
ORGANIZER:Jazzclub Leipzig e.V.
URL;VALUE=URI:https://www.jazzclub-leipzig.de/kategorie-jazzclub/jazzclub-termine/linda-fredriksson-juniper/
TRANSP:OPAQUE
BEGIN:VALARM
ACTION:DISPLAY
TRIGGER;VALUE=DATE-TIME:20231015T190000Z
DESCRIPTION:Erinnerung an Linda Fredriksson »Juniper«
END:VALARM
END:VEVENT
END:VCALENDAR
