BEGIN:VCALENDAR
VERSION:2.0
PRODID:-//Jazzclub Leipzig e.V. //NONSGML Events //EN
CALSCALE:GREGORIAN
X-WR-CALNAME:Jazzclub Leipzig e.V.
BEGIN:VEVENT
X-CREATED:20230914T060509Z
UID:30295
DTEND;VALUE=DATE:20231015T170000
DTSTART;VALUE=DATE:20231015T150000
DTSTAMP:20260420T035549Z
LOCATION:Residenz des Schauspiel Leipzig in der Spinnerei\, Halle 18\, Spinnereistraße 7\, 04179 Leipzig
DESCRIPTION:Der »Jazz für Kinder« geht in eine neue Runde! Dieses Jahr im Programm: Eine junge Leipziger Besetzung (auch bekannt als Munterfel) trifft auf die internationalen Festivalgäste Huguette Tolinga und Julian Sartorius!
SUMMARY:Jazz für Kinder »Jazzalala«
ORGANIZER:Jazzclub Leipzig e.V.
URL;VALUE=URI:https://www.jazzclub-leipzig.de/kategorie-jazzclub/jazz-fuer-kinder-jazzalala/
TRANSP:OPAQUE
BEGIN:VALARM
ACTION:DISPLAY
TRIGGER;VALUE=DATE-TIME:20231015T140000Z
DESCRIPTION:Erinnerung an Jazz für Kinder »Jazzalala«
END:VALARM
END:VEVENT
END:VCALENDAR
