BEGIN:VCALENDAR
VERSION:2.0
PRODID:-//Jazzclub Leipzig e.V. //NONSGML Events //EN
CALSCALE:GREGORIAN
X-WR-CALNAME:Jazzclub Leipzig e.V.
BEGIN:VEVENT
X-CREATED:20230914T055922Z
UID:30291
DTEND;VALUE=DATE:20231015T010000
DTSTART;VALUE=DATE:20231014T230000
DTSTAMP:20260426T005146Z
LOCATION:Residenz des Schauspiel Leipzig in der Spinnerei\, Halle 18\, Spinnereistraße 7\, 04179 Leipzig
DESCRIPTION:GROUP50:50 & Special Guests laden zur Aftershow unter dem Motto „How to prepare mind and body for a rapid system change“ ein! Ein Live-Rave in der Residenz!
SUMMARY:GROUP50:50 »Post-Ecosystem«
ORGANIZER:Jazzclub Leipzig e.V.
URL;VALUE=URI:https://www.jazzclub-leipzig.de/kategorie-jazzclub/group5050-post-ecosystem/
TRANSP:OPAQUE
BEGIN:VALARM
ACTION:DISPLAY
TRIGGER;VALUE=DATE-TIME:20231014T220000Z
DESCRIPTION:Erinnerung an GROUP50:50 »Post-Ecosystem«
END:VALARM
END:VEVENT
END:VCALENDAR
