BEGIN:VCALENDAR
VERSION:2.0
PRODID:-//Jazzclub Leipzig e.V. //NONSGML Events //EN
CALSCALE:GREGORIAN
X-WR-CALNAME:Jazzclub Leipzig e.V.
BEGIN:VEVENT
X-CREATED:20230914T054958Z
UID:30286
DTEND;VALUE=DATE:20231014T213000
DTSTART;VALUE=DATE:20231014T193000
DTSTAMP:20260420T035542Z
LOCATION:Schauspiel Leipzig\, Bosestraße 1\, 04109 Leipzig
DESCRIPTION:Triplekonzert mit SLT und DANIEL ERDMANN & AKI TAKASE - Mariá Portugal ist eine brasilianische Schlagzeugerin, Sängerin und Produzentin, die derzeit in Köln lebt. Mit ihrem Septett versammelt sie namhafte Musiker*innen der Kölner Jazz- und Experimental-Szene um sich, die unterschiedlichste biographische Hintergründe mitbringen.
SUMMARY:Mariá Portugal: EROSÃO SEPTET
ORGANIZER:Jazzclub Leipzig e.V.
URL;VALUE=URI:https://www.jazzclub-leipzig.de/kategorie-jazzclub/maria-portugal-erosao-septet/
TRANSP:OPAQUE
BEGIN:VALARM
ACTION:DISPLAY
TRIGGER;VALUE=DATE-TIME:20231014T183000Z
DESCRIPTION:Erinnerung an Mariá Portugal: EROSÃO SEPTET
END:VALARM
END:VEVENT
END:VCALENDAR
