BEGIN:VCALENDAR
VERSION:2.0
PRODID:-//Jazzclub Leipzig e.V. //NONSGML Events //EN
CALSCALE:GREGORIAN
X-WR-CALNAME:Jazzclub Leipzig e.V.
BEGIN:VEVENT
X-CREATED:20230913T154721Z
UID:30272
DTEND;VALUE=DATE:20231017T193000
DTSTART;VALUE=DATE:20231017T173000
DTSTAMP:20260420T035546Z
LOCATION:die naTo\, Karl-Liebknecht-Str. 48\, 04275 Leipzig 
DESCRIPTION:Zwei Brüder und ein Wesensverwandter: mit dem Trio »RENNER« stellt sich eine ungewöhnliche Konstellation vor. Die Besetzung Posaune-Bass-Schlagzeug ist nämlich nicht inflationär häufig in der Jazzgeschichte zu finden. Moritz Renner, Nils Kugelmann und Valentin Renner nutzen die Räume, die sich ohne Harmonie-Instrument auftun, trefflich. Im Zusammenspiel der Drei entsteht die perfekte Symbiose zwischen Freiheit und durchgetakteter Präzision. Stets ist zu hören, wie nahe sich die Instrumentalisten stehen. 
SUMMARY:RENNER
ORGANIZER:Jazzclub Leipzig e.V.
URL;VALUE=URI:https://www.jazzclub-leipzig.de/kategorie-jazzclub/renner/
TRANSP:OPAQUE
BEGIN:VALARM
ACTION:DISPLAY
TRIGGER;VALUE=DATE-TIME:20231017T163000Z
DESCRIPTION:Erinnerung an RENNER
END:VALARM
END:VEVENT
END:VCALENDAR
