BEGIN:VCALENDAR
VERSION:2.0
PRODID:-//Jazzclub Leipzig e.V. //NONSGML Events //EN
CALSCALE:GREGORIAN
X-WR-CALNAME:Jazzclub Leipzig e.V.
BEGIN:VEVENT
X-CREATED:20230913T153212Z
UID:30261
DTEND;VALUE=DATE:20231016T193000
DTSTART;VALUE=DATE:20231016T173000
DTSTAMP:20260420T021346Z
LOCATION:die naTo \, Karl-Liebknecht-Str. 48\, 04275 Leipzig 
DESCRIPTION:Doppelkonzert mit LUCA ZAMBITO QUARTETT - 1995 in Brandenburg geboren, studierte Karoline Weidt Gesang in Dresden, wo sie auch ihre aktuelle Bandbesetzung kennenlernte. Gemeinsam nahmen sie ihr Debut-Album »Inviting« auf, welches im Mai 2023 auf Double Moon Records als Teil der »Jazz thing Next Generation«-Reihe erschien.
SUMMARY:Karoline Weidt Quartett feat. Volker Holly Schlott
ORGANIZER:Jazzclub Leipzig e.V.
URL;VALUE=URI:https://www.jazzclub-leipzig.de/kategorie-jazzclub/karoline-weidt-quartett-2/
TRANSP:OPAQUE
BEGIN:VALARM
ACTION:DISPLAY
TRIGGER;VALUE=DATE-TIME:20231016T163000Z
DESCRIPTION:Erinnerung an Karoline Weidt Quartett feat. Volker Holly Schlott
END:VALARM
END:VEVENT
END:VCALENDAR
