BEGIN:VCALENDAR
VERSION:2.0
PRODID:-//Jazzclub Leipzig e.V. //NONSGML Events //EN
CALSCALE:GREGORIAN
X-WR-CALNAME:Jazzclub Leipzig e.V.
BEGIN:VEVENT
X-CREATED:20230913T124336Z
UID:30245
DTEND;VALUE=DATE:20231020T230000
DTSTART;VALUE=DATE:20231020T210000
DTSTAMP:20260420T020022Z
LOCATION:WERK 2 - Kulturfabrik Leipzig e.V.\, Kochstraße 132\, 04277 Leipzig
DESCRIPTION:Triplekonzert mit PETTER ELDH’S PROJEKT DRUMS FEAT. SUN-MI HONG und SERA KALO – Eine Kooperation mit dem WERK 2.; Gemeinsam mit Special Guest MC Rapturous (The Swag), präsentiert Magro eine faszinierende Mischung aus spacigem Jazz und pumpenden Hip-Hop-Beats, wie sie auch auf seinem Album »II« zu hören ist. Für Magro ist die Platte eine „emotionale Momentaufnahme“ davon, wie „Musik mit Jazz-Attitude“ für ihn gerade klingt.
SUMMARY:Magro
ORGANIZER:Jazzclub Leipzig e.V.
URL;VALUE=URI:https://www.jazzclub-leipzig.de/kategorie-jazzclub/magro/
TRANSP:OPAQUE
BEGIN:VALARM
ACTION:DISPLAY
TRIGGER;VALUE=DATE-TIME:20231020T200000Z
DESCRIPTION:Erinnerung an Magro
END:VALARM
END:VEVENT
END:VCALENDAR
