BEGIN:VCALENDAR
VERSION:2.0
PRODID:-//Jazzclub Leipzig e.V. //NONSGML Events //EN
CALSCALE:GREGORIAN
X-WR-CALNAME:Jazzclub Leipzig e.V.
BEGIN:VEVENT
X-CREATED:20230913T123356Z
UID:30234
DTEND;VALUE=DATE:20231020T230000
DTSTART;VALUE=DATE:20231020T210000
DTSTAMP:20260420T020019Z
LOCATION:WERK 2 - Kulturfabrik Leipzig e.V.\, Kochstraße 132\, 04277 Leipzig
DESCRIPTION:Triplekonzert mit PETTER ELDH’S PROJEKT DRUMS FEAT. SUN-MI HONG und MAGRO - Eine Kooperation mit dem WERK 2.                                                                     ; ; "I welcome you to explore my aural cosmos..." Sera Kalo; Die U.S. afro-karibische Sängerin legte gemeinsam mit einer spannenden Berliner Besetzung im Juni ihr Debut-Album vor – aufgenommen und produziert mit Petter Eldh. »eXante« besticht durch einen Mix aus Avant-Soul-Melodien und jazzigen Vibes, gepaart mit elektronischen Beats und poetischem Storytelling!
SUMMARY:Sera Kalo »eXante«
ORGANIZER:Jazzclub Leipzig e.V.
URL;VALUE=URI:https://www.jazzclub-leipzig.de/kategorie-jazzclub/sera-kalo-exante/
TRANSP:OPAQUE
BEGIN:VALARM
ACTION:DISPLAY
TRIGGER;VALUE=DATE-TIME:20231020T200000Z
DESCRIPTION:Erinnerung an Sera Kalo »eXante«
END:VALARM
END:VEVENT
END:VCALENDAR
