BEGIN:VCALENDAR
VERSION:2.0
PRODID:-//Jazzclub Leipzig e.V. //NONSGML Events //EN
CALSCALE:GREGORIAN
X-WR-CALNAME:Jazzclub Leipzig e.V.
BEGIN:VEVENT
X-CREATED:20230913T095817Z
UID:30228
DTEND;VALUE=DATE:20231020T230000
DTSTART;VALUE=DATE:20231020T210000
DTSTAMP:20260420T035548Z
LOCATION:WERK 2 - Kulturfabrik Leipzig e.V.\, Kochstraße 132\, 04277 Leipzig
DESCRIPTION:Triplekonzert mit SERA KALO und MAGRO - Eine Kooperation mit dem WERK 2.       Der schwedische Bassvirtuose und Produzent beehrt uns mit seinem »Projekt Drums«: eine fortlaufende Zusammenarbeit mit den spannendsten Schlagzeuger*innen unserer Zeit! In Leipzig trifft er auf die koreanische Schlagzeugerin Sun-Mi Hong – eine Live-Premiere zum Mitfiebern!
SUMMARY:Petter Eldh’s Projekt Drums feat. Sun-Mi Hong
ORGANIZER:Jazzclub Leipzig e.V.
URL;VALUE=URI:https://www.jazzclub-leipzig.de/kategorie-jazzclub/petter-eldhs-projekt-drums-feat-sun-mi-hong/
TRANSP:OPAQUE
BEGIN:VALARM
ACTION:DISPLAY
TRIGGER;VALUE=DATE-TIME:20231020T200000Z
DESCRIPTION:Erinnerung an Petter Eldh&#8217\;s Projekt Drums feat. Sun-Mi Hong
END:VALARM
END:VEVENT
END:VCALENDAR
