BEGIN:VCALENDAR
VERSION:2.0
PRODID:-//Jazzclub Leipzig e.V. //NONSGML Events //EN
CALSCALE:GREGORIAN
X-WR-CALNAME:Jazzclub Leipzig e.V.
BEGIN:VEVENT
X-CREATED:20230912T125549Z
UID:30188
DTEND;VALUE=DATE:20231018T213000
DTSTART;VALUE=DATE:20231018T193000
DTSTAMP:20260420T021505Z
LOCATION:Musikalische Komödie\, Dreilindenstr. 30\, 04177 Leipzig
DESCRIPTION:Doppelkonzert mit JOEL ROSS - Leipziger Big-Band-Besetzung trifft auf Leipziger Vokalsextett – der Kölner Komponist Jan Schreiner schrieb in einer zweieinhalbjährigen gemeinsamen Arbeitsphase Stücke für diese außergewöhnliche Konstellation. Im Rahmen des Festivals findet eines der besonderen Release-Konzerte ihres im August erschienenen Albums statt.
SUMMARY:Spielvereinigung Sued feat. Sjaella »So Nah Und Doch So Fern«
ORGANIZER:Jazzclub Leipzig e.V.
URL;VALUE=URI:https://www.jazzclub-leipzig.de/kategorie-jazzclub/spielvereinigung-sued-feat-sjaella-so-nah-und-doch-so-fern/
TRANSP:OPAQUE
BEGIN:VALARM
ACTION:DISPLAY
TRIGGER;VALUE=DATE-TIME:20231018T183000Z
DESCRIPTION:Erinnerung an Spielvereinigung Sued feat. Sjaella »So Nah Und Doch So Fern«
END:VALARM
END:VEVENT
END:VCALENDAR
