BEGIN:VCALENDAR
VERSION:2.0
PRODID:-//Jazzclub Leipzig e.V. //NONSGML Events //EN
CALSCALE:GREGORIAN
X-WR-CALNAME:Jazzclub Leipzig e.V.
BEGIN:VEVENT
X-CREATED:20230912T120402Z
UID:30181
DTEND;VALUE=DATE:20231021T213000
DTSTART;VALUE=DATE:20231021T193000
DTSTAMP:20260420T020000Z
LOCATION:Oper Leipzig \, Augustusplatz 12\, 04109 Leipzig
DESCRIPTION:Doppelkonzert mit ERIC SCHAEFER ENSEMBLE HAYASHI - Auf einzigartige Weise verbindet Tigran Hamasyan zeitgenössischen Jazz mit Post-Rock und der reichen musikalischen Tradition seines Heimatlandes Armenien: Eine vibrierende Musik, in der sich Polyrhythmen, ungerade Taktarten und atemlose Tempi mit ruhigeren, poetischen, ätherischen Phasen abwechseln.
SUMMARY:Tigran Hamasyan »The Call Within«
ORGANIZER:Jazzclub Leipzig e.V.
URL;VALUE=URI:https://www.jazzclub-leipzig.de/kategorie-jazzclub/tigran-hamasyan-the-call-within/
TRANSP:OPAQUE
BEGIN:VALARM
ACTION:DISPLAY
TRIGGER;VALUE=DATE-TIME:20231021T183000Z
DESCRIPTION:Erinnerung an Tigran Hamasyan »The Call Within«
END:VALARM
END:VEVENT
END:VCALENDAR
