BEGIN:VCALENDAR
VERSION:2.0
PRODID:-//Jazzclub Leipzig e.V. //NONSGML Events //EN
CALSCALE:GREGORIAN
X-WR-CALNAME:Jazzclub Leipzig e.V.
BEGIN:VEVENT
X-CREATED:20230824T135650Z
UID:30108
DTEND;VALUE=DATE:20231014T213000
DTSTART;VALUE=DATE:20231014T193000
DTSTAMP:20260426T002053Z
LOCATION:Schauspiel Leipzig\, Bosestraße 1\, 04109 Leipzig
DESCRIPTION:Triplekonzert mit DANIEL ERDMANN & AKI TAKASE und  MARIÁ PORTUGAL: EROSÃO SEPTET - Der Leipziger Jazznachwuchspreis der Marion-Ermer-Stiftung wird zum 27. Mal von der Stadt Leipzig verliehen. Traditionell findet die Preisverleihung im Rahmen der Leipziger Jazztage statt, dieses Jahr fällt sie mit der Festivaleröffnung zusammen.
SUMMARY:SLT
ORGANIZER:Jazzclub Leipzig e.V.
URL;VALUE=URI:https://www.jazzclub-leipzig.de/kategorie-jazzclub/simon-lucaciu-trio-jpn/
TRANSP:OPAQUE
BEGIN:VALARM
ACTION:DISPLAY
TRIGGER;VALUE=DATE-TIME:20231014T183000Z
DESCRIPTION:Erinnerung an SLT
END:VALARM
END:VEVENT
END:VCALENDAR
