BEGIN:VCALENDAR
VERSION:2.0
PRODID:-//Jazzclub Leipzig e.V. //NONSGML Events //EN
CALSCALE:GREGORIAN
X-WR-CALNAME:Jazzclub Leipzig e.V.
BEGIN:VEVENT
X-CREATED:20230824T131657Z
UID:30093
DTEND;VALUE=DATE:20231015T220000
DTSTART;VALUE=DATE:20231015T200000
DTSTAMP:20260420T021546Z
LOCATION:Philippuskirche\, Aurelienstraße 54\, 04177 Leipzig
DESCRIPTION:Doppelkonzert mit LINDA FREDRIKSSON »JUNIPER« - Eine all-female Super-Group aus Dänemark, Norwegen und Schweden um die international geschätzte Komponistin und Mulitiinstrumentalistin Marilyn Mazur, welche in den 80ern bereits mit Miles Davis, Gil Evans, Wayne Shorter und später auch mit Jan Garbarek zusammenarbeitete.
SUMMARY:Marilyn Mazur’s Shamania
ORGANIZER:Jazzclub Leipzig e.V.
URL;VALUE=URI:https://www.jazzclub-leipzig.de/kategorie-jazzclub/jazzclub-termine/marilyn-mazurs-shamania/
TRANSP:OPAQUE
BEGIN:VALARM
ACTION:DISPLAY
TRIGGER;VALUE=DATE-TIME:20231015T190000Z
DESCRIPTION:Erinnerung an Marilyn Mazur’s Shamania
END:VALARM
END:VEVENT
END:VCALENDAR
