BEGIN:VCALENDAR
VERSION:2.0
PRODID:-//Jazzclub Leipzig e.V. //NONSGML Events //EN
CALSCALE:GREGORIAN
X-WR-CALNAME:Jazzclub Leipzig e.V.
BEGIN:VEVENT
X-CREATED:20230619T132050Z
UID:29626
DTEND;VALUE=DATE:20230714T193000
DTSTART;VALUE=DATE:20230714T173000
DTSTAMP:20260426T043825Z
LOCATION:Villa Hasenholz \, Gustav-Esche-Str. 1\,  04179 Leipzig
DESCRIPTION:Wir alle kennen ihn: diesen Zwischenbereich von Wachheit und Schlaf. Zwischen Kontrolle und Loslassen.
SUMMARY:HYPNAGOGIA
ORGANIZER:Jazzclub Leipzig e.V.
URL;VALUE=URI:https://www.jazzclub-leipzig.de/kategorie-jazzclub/jazzclub-termine/hypnagogia/
TRANSP:OPAQUE
BEGIN:VALARM
ACTION:DISPLAY
TRIGGER;VALUE=DATE-TIME:20230714T163000Z
DESCRIPTION:Erinnerung an HYPNAGOGIA
END:VALARM
END:VEVENT
END:VCALENDAR
