BEGIN:VCALENDAR
VERSION:2.0
PRODID:-//Jazzclub Leipzig e.V. //NONSGML Events //EN
CALSCALE:GREGORIAN
X-WR-CALNAME:Jazzclub Leipzig e.V.
BEGIN:VEVENT
X-CREATED:20230406T141006Z
UID:29047
DTEND;VALUE=DATE:20230504T220000
DTSTART;VALUE=DATE:20230504T200000
DTSTAMP:20260419T172545Z
LOCATION:UT Connewitz
DESCRIPTION:Das Atom String Quartet ist eines der faszinierendsten Streichquartette der Welt und gleichzeitig eine der besten polnischen Jazzbands. Die Gruppe verbindet die Fähigkeiten eines Streichquartetts mit Improvisation im weitesten Sinne.
SUMMARY:Atom String Quartet
ORGANIZER:Jazzclub Leipzig e.V.
URL;VALUE=URI:https://www.jazzclub-leipzig.de/kategorie-jazzkalender/atom-string-quartett/
TRANSP:OPAQUE
BEGIN:VALARM
ACTION:DISPLAY
TRIGGER;VALUE=DATE-TIME:20230504T190000Z
DESCRIPTION:Erinnerung an Atom String Quartet
END:VALARM
END:VEVENT
END:VCALENDAR
