BEGIN:VCALENDAR
VERSION:2.0
PRODID:-//Jazzclub Leipzig e.V. //NONSGML Events //EN
CALSCALE:GREGORIAN
X-WR-CALNAME:Jazzclub Leipzig e.V.
BEGIN:VEVENT
X-CREATED:20230406T125657Z
UID:29040
DTEND;VALUE=DATE:20230526T223000
DTSTART;VALUE=DATE:20230526T203000
DTSTAMP:20260419T172503Z
LOCATION:Die naTo
DESCRIPTION:NACHHOLKONZERT. Na endlich! Die Winter-Krankheitswelle lässt uns in Ruhe und wir erhalten die Chance, die in Berlin lebende, bosnisch-slowenische Sängerin und Komponistin Mirna Bogdanović für ein exklusives Jazzclub Live (Nachhol-) Konzert nach Leipzig in die naTo ein zu laden.
SUMMARY:Mirna Bogdanovic
ORGANIZER:Jazzclub Leipzig e.V.
URL;VALUE=URI:https://www.jazzclub-leipzig.de/kategorie-jazzkalender/mirna-bogdanovic-2/
TRANSP:OPAQUE
BEGIN:VALARM
ACTION:DISPLAY
TRIGGER;VALUE=DATE-TIME:20230526T193000Z
DESCRIPTION:Erinnerung an Mirna Bogdanovic
END:VALARM
END:VEVENT
END:VCALENDAR
