BEGIN:VCALENDAR
VERSION:2.0
PRODID:-//Jazzclub Leipzig e.V. //NONSGML Events //EN
CALSCALE:GREGORIAN
X-WR-CALNAME:Jazzclub Leipzig e.V.
BEGIN:VEVENT
X-CREATED:20230322T130823Z
UID:28880
DTEND;VALUE=DATE:20230518T223000
DTSTART;VALUE=DATE:20230518T203000
DTSTAMP:20260419T172540Z
LOCATION:die naTo
DESCRIPTION:Ronny Graupe: Ein Gitarrist der Extraklasse, der in seiner Vielfältigkeit nicht zu übertreffen ist. Sein „rockiger Sound“ hat ihm schon so einige Awards, Auftritte und Presseberichte eingebracht. Und das bereits seit den 90er Jahren.
SUMMARY:Ronny Graupe
ORGANIZER:Jazzclub Leipzig e.V.
URL;VALUE=URI:https://www.jazzclub-leipzig.de/kategorie-jazzkalender/ronny-graupe/
TRANSP:OPAQUE
BEGIN:VALARM
ACTION:DISPLAY
TRIGGER;VALUE=DATE-TIME:20230518T193000Z
DESCRIPTION:Erinnerung an Ronny Graupe
END:VALARM
END:VEVENT
END:VCALENDAR
