BEGIN:VCALENDAR
VERSION:2.0
PRODID:-//Jazzclub Leipzig e.V. //NONSGML Events //EN
CALSCALE:GREGORIAN
X-WR-CALNAME:Jazzclub Leipzig e.V.
BEGIN:VEVENT
X-CREATED:20230310T111643Z
UID:28853
DTEND;VALUE=DATE:20230415T223000
DTSTART;VALUE=DATE:20230415T203000
DTSTAMP:20260419T172625Z
LOCATION:Die NaTo
DESCRIPTION:Johannes Moritz formiert im Sommer 2021 um sein, seit zehn Jahren bestehendes, Quartett ein neues Ensemble, erweitert um Antonia Hausmann an der Posaune und Volker Heuken am Vibraphon & Marimbaphon. 
SUMMARY:Anamorphosis
ORGANIZER:Jazzclub Leipzig e.V.
URL;VALUE=URI:https://www.jazzclub-leipzig.de/kategorie-jazzclub/jazzclub-termine/anamorphosis-2/
TRANSP:OPAQUE
BEGIN:VALARM
ACTION:DISPLAY
TRIGGER;VALUE=DATE-TIME:20230415T193000Z
DESCRIPTION:Erinnerung an Anamorphosis
END:VALARM
END:VEVENT
END:VCALENDAR
