BEGIN:VCALENDAR
VERSION:2.0
PRODID:-//Jazzclub Leipzig e.V. //NONSGML Events //EN
CALSCALE:GREGORIAN
X-WR-CALNAME:Jazzclub Leipzig e.V.
BEGIN:VEVENT
X-CREATED:20230206T145609Z
UID:28710
DTEND;VALUE=DATE:20230324T220000
DTSTART;VALUE=DATE:20230324T200000
DTSTAMP:20260419T192820Z
LOCATION:Kulturhof Gohlis
DESCRIPTION:Leider müssen wir euch mitteilen, dass Schlagzeuger Sebastian Nay verstorben ist. Wir bedauern dies zutiefst und sind in Gedanken bei Familie, Freunden und Wegbegleitern.
SUMMARY:ABGESAGT – Pentland Nay Quartett feat. Jerry Bergonzi
ORGANIZER:Jazzclub Leipzig e.V.
URL;VALUE=URI:https://www.jazzclub-leipzig.de/kategorie-jazzkalender/jazzkalender-termine/jazzkalender-termine-jazzclub-live/pentland-nay-quartett-feat-jerry-bergonzi/
TRANSP:OPAQUE
BEGIN:VALARM
ACTION:DISPLAY
TRIGGER;VALUE=DATE-TIME:20230324T190000Z
DESCRIPTION:Erinnerung an ABGESAGT &#8211\; Pentland Nay Quartett feat. Jerry Bergonzi
END:VALARM
END:VEVENT
END:VCALENDAR
