BEGIN:VCALENDAR
VERSION:2.0
PRODID:-//Jazzclub Leipzig e.V. //NONSGML Events //EN
CALSCALE:GREGORIAN
X-WR-CALNAME:Jazzclub Leipzig e.V.
BEGIN:VEVENT
X-CREATED:20230206T144435Z
UID:28704
DTEND;VALUE=DATE:20230309T220000
DTSTART;VALUE=DATE:20230309T200000
DTSTAMP:20260419T172507Z
LOCATION:Kulturhof Gohlis
DESCRIPTION:Kurz nachdem die beiden ihr Studium an der Musikhochschule in Leipzig anfangen, finden sie heraus, dass sie das Interesse für klassische Komposition, Kammermusik und amerikanischen Jazz teilen. Was bei tiefsinnigen Gesprächen über Musikgrößen wie Wagner, Schumann oder Beethoven beginnt, wird zu einer langjährigen Freundschaft. Und zum gemeinsamen Ausüben ihrer größten Leidenschaft.
SUMMARY:Flashback #32: Cole Porter (by Matti und Philip)
ORGANIZER:Jazzclub Leipzig e.V.
URL;VALUE=URI:https://www.jazzclub-leipzig.de/kategorie-jazzclub/flashback-32-cole-porter-by-matti-und-philip/
TRANSP:OPAQUE
BEGIN:VALARM
ACTION:DISPLAY
TRIGGER;VALUE=DATE-TIME:20230309T190000Z
DESCRIPTION:Erinnerung an Flashback #32: Cole Porter (by Matti und Philip)
END:VALARM
END:VEVENT
END:VCALENDAR
