BEGIN:VCALENDAR
VERSION:2.0
PRODID:-//Jazzclub Leipzig e.V. //NONSGML Events //EN
CALSCALE:GREGORIAN
X-WR-CALNAME:Jazzclub Leipzig e.V.
BEGIN:VEVENT
X-CREATED:20230119T143857Z
UID:28613
DTEND;VALUE=DATE:20230217T223000
DTSTART;VALUE=DATE:20230217T203000
DTSTAMP:20260419T172506Z
LOCATION:Die NaTo
DESCRIPTION:Das Berner Duo BUREAU BUREAU – das sind Sonia Loenne am Mikrofon und und Michael Cina am Schlagzeug und Vibraphon. Sie spielen experimentelle Musik und arbeiten gemeinsam auch an diversen anderen Projekten
SUMMARY:BUREAU BUREAU
ORGANIZER:Jazzclub Leipzig e.V.
URL;VALUE=URI:https://www.jazzclub-leipzig.de/kategorie-jazzkalender/bureau-bureau-3/
TRANSP:OPAQUE
BEGIN:VALARM
ACTION:DISPLAY
TRIGGER;VALUE=DATE-TIME:20230217T193000Z
DESCRIPTION:Erinnerung an BUREAU BUREAU
END:VALARM
END:VEVENT
END:VCALENDAR
