BEGIN:VCALENDAR
VERSION:2.0
PRODID:-//Jazzclub Leipzig e.V. //NONSGML Events //EN
CALSCALE:GREGORIAN
X-WR-CALNAME:Jazzclub Leipzig e.V.
BEGIN:VEVENT
X-CREATED:20230119T123631Z
UID:28513
DTEND;VALUE=DATE:20230205T223000
DTSTART;VALUE=DATE:20230205T203000
DTSTAMP:20260419T172508Z
LOCATION:die NaTo
DESCRIPTION:So jung, so erfahren. Der Februar startet mit einem besonderen Konzert in der naTo. Das vierköpfige, hochgelobte Ensemble »Lisbeth Quartett« um die Komponistin und Saxofonistin Charlotte Greve veröffentlicht mit »Release« sein fünftes Album auf Intakt Records. Wir freuen uns sehr, dass die Band einen Stop bei uns in Leipzig macht!
SUMMARY:Lisbeth Quartett
ORGANIZER:Jazzclub Leipzig e.V.
URL;VALUE=URI:https://www.jazzclub-leipzig.de/kategorie-jazzkalender/lisbeth-quartett-6/
TRANSP:OPAQUE
BEGIN:VALARM
ACTION:DISPLAY
TRIGGER;VALUE=DATE-TIME:20230205T193000Z
DESCRIPTION:Erinnerung an Lisbeth Quartett
END:VALARM
END:VEVENT
END:VCALENDAR
