BEGIN:VCALENDAR
VERSION:2.0
PRODID:-//Jazzclub Leipzig e.V. //NONSGML Events //EN
CALSCALE:GREGORIAN
X-WR-CALNAME:Jazzclub Leipzig e.V.
BEGIN:VEVENT
X-CREATED:20221128T101918Z
UID:28308
DTEND;VALUE=DATE:20221222T220000
DTSTART;VALUE=DATE:20221222T200000
DTSTAMP:20260419T172506Z
LOCATION:Werkcafé Kulturhof Gohlis 
DESCRIPTION:Zum Abschluss des Jahres 2022 gibt’s endlich wieder ein Flashback! Olga Rezniczenko (p) widmet sich in dieser Ausgabe der Musik der Jazzpiano-Legende Horace Silver. 
SUMMARY:FLASHBACK #31: Horace Silver (by Olga Rezniczenko)
ORGANIZER:Jazzclub Leipzig e.V.
URL;VALUE=URI:https://www.jazzclub-leipzig.de/kategorie-jazzclub/jazzclub-termine/flashback-31-horace-silver-by-olga-resniczenko/
TRANSP:OPAQUE
BEGIN:VALARM
ACTION:DISPLAY
TRIGGER;VALUE=DATE-TIME:20221222T190000Z
DESCRIPTION:Erinnerung an FLASHBACK #31: Horace Silver (by Olga Rezniczenko)
END:VALARM
END:VEVENT
END:VCALENDAR
