BEGIN:VCALENDAR
VERSION:2.0
PRODID:-//Jazzclub Leipzig e.V. //NONSGML Events //EN
CALSCALE:GREGORIAN
X-WR-CALNAME:Jazzclub Leipzig e.V.
BEGIN:VEVENT
X-CREATED:20221010T111845Z
UID:27509
DTEND;VALUE=DATE:20221130T220000
DTSTART;VALUE=DATE:20221130T200000
DTSTAMP:20260419T172509Z
LOCATION:Kulturhof Gohlis
DESCRIPTION:+++ WIR INFORMIEREN EUCH ZEITNAH ÜBER EINEN ERSATZTERMIN+++ BUREAU BUREAU spielen experimentelle Musik mit Textschwerpunkt im Duo und arbeiten gemeinsam an verschiedensten anderen Projekten: Momentan komponieren sie ein Werk für […]
SUMMARY:Bureau Bureau – ABGESAGT WEGEN KRANKHEIT
ORGANIZER:Jazzclub Leipzig e.V.
URL;VALUE=URI:https://www.jazzclub-leipzig.de/kategorie-jazzkalender/bureau-bureau/
TRANSP:OPAQUE
BEGIN:VALARM
ACTION:DISPLAY
TRIGGER;VALUE=DATE-TIME:20221130T190000Z
DESCRIPTION:Erinnerung an Bureau Bureau &#8211\; ABGESAGT WEGEN KRANKHEIT
END:VALARM
END:VEVENT
END:VCALENDAR
