BEGIN:VCALENDAR
VERSION:2.0
PRODID:-//Jazzclub Leipzig e.V. //NONSGML Events //EN
CALSCALE:GREGORIAN
X-WR-CALNAME:Jazzclub Leipzig e.V.
BEGIN:VEVENT
X-CREATED:20221010T111056Z
UID:27505
DTEND;VALUE=DATE:20221121T220000
DTSTART;VALUE=DATE:20221121T200000
DTSTAMP:20260422T111529Z
LOCATION:Kulturhof Gohlis 
DESCRIPTION:Die großartigsten Kollaborationen beruhen oft auf zwei einzigartigen Persönlichkeiten, die sich zusammenschließen, um etwas zu schaffen, das über ihre individuellen Möglichkeiten hinausgeht.
SUMMARY:Kreisberg meets Veras
ORGANIZER:Jazzclub Leipzig e.V.
URL;VALUE=URI:https://www.jazzclub-leipzig.de/kategorie-jazzkalender/kreisberg-meets-veras/
TRANSP:OPAQUE
BEGIN:VALARM
ACTION:DISPLAY
TRIGGER;VALUE=DATE-TIME:20221121T190000Z
DESCRIPTION:Erinnerung an Kreisberg meets Veras
END:VALARM
END:VEVENT
END:VCALENDAR
