BEGIN:VCALENDAR
VERSION:2.0
PRODID:-//Jazzclub Leipzig e.V. //NONSGML Events //EN
CALSCALE:GREGORIAN
X-WR-CALNAME:Jazzclub Leipzig e.V.
BEGIN:VEVENT
X-CREATED:20221004T141853Z
UID:27440
DTEND;VALUE=DATE:20221029T173000
DTSTART;VALUE=DATE:20221029T153000
DTSTAMP:20260420T075305Z
LOCATION:Schaubühne Lindenfels \, Karl-Heine-Straße 50\, 04229 Leipzig
DESCRIPTION:Der Kongo-Jazz wird also fester Bestandteil unserer Stadt, Kinshasa und Leipzig rücken ein bisschen näher zusammen. Was will man mehr, an so einem Nachmittag im Oktober?
SUMMARY:Workshopkonzert mit Kojack Kossakamvwe 
ORGANIZER:Jazzclub Leipzig e.V.
URL;VALUE=URI:https://www.jazzclub-leipzig.de/kategorie-jazzclub/workshopkonzert-mit-kojack-kossakamvwe/
TRANSP:OPAQUE
BEGIN:VALARM
ACTION:DISPLAY
TRIGGER;VALUE=DATE-TIME:20221029T143000Z
DESCRIPTION:Erinnerung an Workshopkonzert mit Kojack Kossakamvwe&nbsp\;
END:VALARM
END:VEVENT
END:VCALENDAR
