BEGIN:VCALENDAR
VERSION:2.0
PRODID:-//Jazzclub Leipzig e.V. //NONSGML Events //EN
CALSCALE:GREGORIAN
X-WR-CALNAME:Jazzclub Leipzig e.V.
BEGIN:VEVENT
X-CREATED:20220928T152957Z
UID:27418
DTEND;VALUE=DATE:20221023T163000
DTSTART;VALUE=DATE:20221023T143000
DTSTAMP:20260420T075306Z
LOCATION:Libelle (alternativ Leben e.V.)\, Kolonnadenstraße 19\, 04109 Leipzig
DESCRIPTION:Eins steht fest: Der Name des Trio Amore ist Programm. Die unverkennbaren Geheimzutaten der jungen Musiker: Ein kleines Augenzwinkern und jede Menge Herz.
SUMMARY:Trio Amore #1
ORGANIZER:Jazzclub Leipzig e.V.
URL;VALUE=URI:https://www.jazzclub-leipzig.de/kategorie-jazzclub/trio-amore-2/
TRANSP:OPAQUE
BEGIN:VALARM
ACTION:DISPLAY
TRIGGER;VALUE=DATE-TIME:20221023T133000Z
DESCRIPTION:Erinnerung an Trio Amore #1
END:VALARM
END:VEVENT
END:VCALENDAR
