BEGIN:VCALENDAR
VERSION:2.0
PRODID:-//Jazzclub Leipzig e.V. //NONSGML Events //EN
CALSCALE:GREGORIAN
X-WR-CALNAME:Jazzclub Leipzig e.V.
BEGIN:VEVENT
X-CREATED:20220926T175617Z
UID:27352
DTEND;VALUE=DATE:20221028T213000
DTSTART;VALUE=DATE:20221028T193000
DTSTAMP:20260420T075217Z
LOCATION:UT Connewitz\, Wolfgang-Heinze-Straße 12 a\,  04277 Leipzig
DESCRIPTION:Doppelveranstaltung mit Stefan Schultze’s Large Ensemble - Der Morton Subotnick? Ja, ganz richtig, Sie haben sich nicht verlesen!
SUMMARY:Morton Subotnick – ein audiovisueller Vortrag
ORGANIZER:Jazzclub Leipzig e.V.
URL;VALUE=URI:https://www.jazzclub-leipzig.de/kategorie-jazzclub/morton-subotnick-ein-audiovisueller-vortrag/
TRANSP:OPAQUE
BEGIN:VALARM
ACTION:DISPLAY
TRIGGER;VALUE=DATE-TIME:20221028T183000Z
DESCRIPTION:Erinnerung an Morton Subotnick &#8211\; ein audiovisueller Vortrag
END:VALARM
END:VEVENT
END:VCALENDAR
