BEGIN:VCALENDAR
VERSION:2.0
PRODID:-//Jazzclub Leipzig e.V. //NONSGML Events //EN
CALSCALE:GREGORIAN
X-WR-CALNAME:Jazzclub Leipzig e.V.
BEGIN:VEVENT
X-CREATED:20220926T173508Z
UID:27346
DTEND;VALUE=DATE:20221027T213000
DTSTART;VALUE=DATE:20221027T193000
DTSTAMP:20260420T075307Z
LOCATION:Altes Stadtbad\, Eutritzscher Str. 21\, 04105 Leipzig
DESCRIPTION:Doppelkonzert mit Andreas Schaerer »A novel of anomaly« ￼- Seit über zehn Jahren musiziert das Tobias Hoffmann Trio nun schon gemeinsam und es macht ihnen immer noch große Freude. Uns auch!
SUMMARY:Tobias Hoffmann Trio
ORGANIZER:Jazzclub Leipzig e.V.
URL;VALUE=URI:https://www.jazzclub-leipzig.de/kategorie-jazzclub/tobias-hoffmann-trio-2/
TRANSP:OPAQUE
BEGIN:VALARM
ACTION:DISPLAY
TRIGGER;VALUE=DATE-TIME:20221027T183000Z
DESCRIPTION:Erinnerung an Tobias Hoffmann Trio
END:VALARM
END:VEVENT
END:VCALENDAR
