BEGIN:VCALENDAR
VERSION:2.0
PRODID:-//Jazzclub Leipzig e.V. //NONSGML Events //EN
CALSCALE:GREGORIAN
X-WR-CALNAME:Jazzclub Leipzig e.V.
BEGIN:VEVENT
X-CREATED:20220926T171346Z
UID:27339
DTEND;VALUE=DATE:20221023T200000
DTSTART;VALUE=DATE:20221023T180000
DTSTAMP:20260420T075304Z
LOCATION:VARY Record Store & Café\, Eisenbahnstraße 7\, 04315 Leipzig
DESCRIPTION:Zwei Sessel, eine Lampe, ein Plattenspieler – Musikjournalist und Fotograf Arne Reimer und Ekkehart Fleischhammer tauschen sich über Lieblingsplatten aus und bringen diese zu Gehör.
SUMMARY:Knistergeflüster
ORGANIZER:Jazzclub Leipzig e.V.
URL;VALUE=URI:https://www.jazzclub-leipzig.de/kategorie-jazzclub/knistergefluester-2/
TRANSP:OPAQUE
BEGIN:VALARM
ACTION:DISPLAY
TRIGGER;VALUE=DATE-TIME:20221023T170000Z
DESCRIPTION:Erinnerung an Knistergeflüster
END:VALARM
END:VEVENT
END:VCALENDAR
