BEGIN:VCALENDAR
VERSION:2.0
PRODID:-//Jazzclub Leipzig e.V. //NONSGML Events //EN
CALSCALE:GREGORIAN
X-WR-CALNAME:Jazzclub Leipzig e.V.
BEGIN:VEVENT
X-CREATED:20220915T075635Z
UID:27205
DTEND;VALUE=DATE:20221023T130000
DTSTART;VALUE=DATE:20221023T110000
DTSTAMP:20260420T075215Z
LOCATION:Ost-Passage-Theater 
DESCRIPTION:Rhythmus umgibt jeden von uns Tag für Tag. Sei es der Wechsel der Jahreszeiten, der Wechsel von Tag und Nacht, der »Zehn-Minuten-Takt« der Straßenbahn oder sogar unser Herzschlag - Rhythmus ist allgegenwärtig.
SUMMARY:Jazz für Kinder: LU:V & friends »Takina Takina Taki«
ORGANIZER:Jazzclub Leipzig e.V.
URL;VALUE=URI:https://www.jazzclub-leipzig.de/kategorie-jazztage/jazz-fuer-kinder-luv-friends-takina-takina-taki/
TRANSP:OPAQUE
BEGIN:VALARM
ACTION:DISPLAY
TRIGGER;VALUE=DATE-TIME:20221023T100000Z
DESCRIPTION:Erinnerung an Jazz für Kinder: LU:V &#038\; friends »Takina Takina Taki«
END:VALARM
END:VEVENT
END:VCALENDAR
