BEGIN:VCALENDAR
VERSION:2.0
PRODID:-//Jazzclub Leipzig e.V. //NONSGML Events //EN
CALSCALE:GREGORIAN
X-WR-CALNAME:Jazzclub Leipzig e.V.
BEGIN:VEVENT
X-CREATED:20220914T150921Z
UID:27167
DTEND;VALUE=DATE:20221030T015900
DTSTART;VALUE=DATE:20221029T235900
DTSTAMP:20260420T075306Z
LOCATION:Neues Schauspiel 
DESCRIPTION:Unkonventionell, experimentierfreudig und wortgewandt – das im letzten Jahr gegründete Ensemble Hypochondrische Ängste stellt so einige musikalische Gewohnheiten auf den Kopf. Mit Klangstücken, assoziativen Lautkaskaden und Performancefetzen von Wortkünstlerin Jorinde Minna Markert wird ihr Sound nach eigener Beschreibung zu einer Art kaputter Popmusik mit System.
SUMMARY:Hypochondrische Ängste
ORGANIZER:Jazzclub Leipzig e.V.
URL;VALUE=URI:https://www.jazzclub-leipzig.de/kategorie-jazztage/hypochondrische-aengste/
TRANSP:OPAQUE
BEGIN:VALARM
ACTION:DISPLAY
TRIGGER;VALUE=DATE-TIME:20221029T225900Z
DESCRIPTION:Erinnerung an Hypochondrische Ängste
END:VALARM
END:VEVENT
END:VCALENDAR
