BEGIN:VCALENDAR
VERSION:2.0
PRODID:-//Jazzclub Leipzig e.V. //NONSGML Events //EN
CALSCALE:GREGORIAN
X-WR-CALNAME:Jazzclub Leipzig e.V.
BEGIN:VEVENT
X-CREATED:20220915T080018Z
UID:27160
DTEND;VALUE=DATE:20221026T190000
DTSTART;VALUE=DATE:20221026T170000
DTSTAMP:20260420T075303Z
LOCATION:Barcelona
DESCRIPTION:Eins steht fest: Der Name des Trio Amore ist Programm. Die unverkennbaren Geheimzutaten der jungen Musiker: Ein kleines Augenzwinkern und jede Menge Herz.
SUMMARY:Trio Amore #2
ORGANIZER:Jazzclub Leipzig e.V.
URL;VALUE=URI:https://www.jazzclub-leipzig.de/kategorie-jazztage/trio-amore/
TRANSP:OPAQUE
BEGIN:VALARM
ACTION:DISPLAY
TRIGGER;VALUE=DATE-TIME:20221026T160000Z
DESCRIPTION:Erinnerung an Trio Amore #2
END:VALARM
END:VEVENT
END:VCALENDAR
