BEGIN:VCALENDAR
VERSION:2.0
PRODID:-//Jazzclub Leipzig e.V. //NONSGML Events //EN
CALSCALE:GREGORIAN
X-WR-CALNAME:Jazzclub Leipzig e.V.
BEGIN:VEVENT
X-CREATED:20220914T124551Z
UID:27113
DTEND;VALUE=DATE:20221025T230000
DTSTART;VALUE=DATE:20221025T210000
DTSTAMP:20260420T075216Z
LOCATION:Horns Erben 
DESCRIPTION:Mit »Vagabond Souls« wurde dieses Jahr das neueste Projekt von Komponist und Saxofonist Johannes Ludwig ins Leben gerufen, der in den letzten 15 Jahren mehr als zehn Alben produziert hat.
SUMMARY:JOHANNES LUDWIG »VAGABOND SOULS« #2
ORGANIZER:Jazzclub Leipzig e.V.
URL;VALUE=URI:https://www.jazzclub-leipzig.de/kategorie-jazztage/johannes-ludwig-vagabond-souls-2/
TRANSP:OPAQUE
BEGIN:VALARM
ACTION:DISPLAY
TRIGGER;VALUE=DATE-TIME:20221025T200000Z
DESCRIPTION:Erinnerung an JOHANNES LUDWIG »VAGABOND SOULS« #2
END:VALARM
END:VEVENT
END:VCALENDAR
