BEGIN:VCALENDAR
VERSION:2.0
PRODID:-//Jazzclub Leipzig e.V. //NONSGML Events //EN
CALSCALE:GREGORIAN
X-WR-CALNAME:Jazzclub Leipzig e.V.
BEGIN:VEVENT
X-CREATED:20220914T073901Z
UID:27045
DTEND;VALUE=DATE:20221025T200000
DTSTART;VALUE=DATE:20221025T180000
DTSTAMP:20260420T075217Z
LOCATION:Moritzbastei 
DESCRIPTION:Im Rahmen des diesjährigen Open Calls begibt sich Kontrabassist und Komponist James Banner mit seiner Uraufführung »class-work« auf die Suche nach der Bedeutung und Relevanz gesellschaftlicher Schichten. Das Mehrgenerationen-Ensemble, das er eigens dafür zusammenstellt, widmet sich den persönlichen Erfahrungen seiner Mitglieder im Kontext ihres musikalischen Schaffens. 
SUMMARY:Festivalprojekt: James Banner »class-work«
ORGANIZER:Jazzclub Leipzig e.V.
URL;VALUE=URI:https://www.jazzclub-leipzig.de/kategorie-jazztage/james-banners-class-work-festivalprojekt/
TRANSP:OPAQUE
BEGIN:VALARM
ACTION:DISPLAY
TRIGGER;VALUE=DATE-TIME:20221025T170000Z
DESCRIPTION:Erinnerung an Festivalprojekt: James Banner »class-work«
END:VALARM
END:VEVENT
END:VCALENDAR
