BEGIN:VCALENDAR
VERSION:2.0
PRODID:-//Jazzclub Leipzig e.V. //NONSGML Events //EN
CALSCALE:GREGORIAN
X-WR-CALNAME:Jazzclub Leipzig e.V.
BEGIN:VEVENT
X-CREATED:20220913T125325Z
UID:27013
DTEND;VALUE=DATE:20221029T213000
DTSTART;VALUE=DATE:20221029T193000
DTSTAMP:20260420T094755Z
LOCATION:Schauspiel Leipzig
DESCRIPTION:Doppelkonzert mit Dave Gisler Trio feat. David Murray – Normalerweise würde hier nun ein fröhlicher Ankündigungstext über Anteloper zu lesen sein. Doch wie so oft im Leben kommt alles anders, als gedacht. 
SUMMARY:for jaimie: 4evaBreezy
ORGANIZER:Jazzclub Leipzig e.V.
URL;VALUE=URI:https://www.jazzclub-leipzig.de/kategorie-jazztage/for-jaimie-4evabreezy/
TRANSP:OPAQUE
BEGIN:VALARM
ACTION:DISPLAY
TRIGGER;VALUE=DATE-TIME:20221029T183000Z
DESCRIPTION:Erinnerung an for jaimie: 4evaBreezy
END:VALARM
END:VEVENT
END:VCALENDAR
