BEGIN:VCALENDAR
VERSION:2.0
PRODID:-//Jazzclub Leipzig e.V. //NONSGML Events //EN
CALSCALE:GREGORIAN
X-WR-CALNAME:Jazzclub Leipzig e.V.
BEGIN:VEVENT
X-CREATED:20220912T121100Z
UID:26920
DTEND;VALUE=DATE:20221029T015900
DTSTART;VALUE=DATE:20221028T235900
DTSTAMP:20260422T111529Z
LOCATION:UT Connewitz
DESCRIPTION:SKYLLA – das ist das Soloprojekt der Komponistin und Bassistin Ruth Goller, in welchem sie selbst an der Bassgitarre steht und singt. Dazu geholt hat sie sich die beiden außergewöhnlichen britischen Sängerinnen Lauren Kinsella und Alice Grant. 
SUMMARY:Skylla
ORGANIZER:Jazzclub Leipzig e.V.
URL;VALUE=URI:https://www.jazzclub-leipzig.de/kategorie-jazztage/skylla/
TRANSP:OPAQUE
BEGIN:VALARM
ACTION:DISPLAY
TRIGGER;VALUE=DATE-TIME:20221028T225900Z
DESCRIPTION:Erinnerung an Skylla
END:VALARM
END:VEVENT
END:VCALENDAR
