BEGIN:VCALENDAR
VERSION:2.0
PRODID:-//Jazzclub Leipzig e.V. //NONSGML Events //EN
CALSCALE:GREGORIAN
X-WR-CALNAME:Jazzclub Leipzig e.V.
BEGIN:VEVENT
X-CREATED:20220912T113228Z
UID:26915
DTEND;VALUE=DATE:20221029T200000
DTSTART;VALUE=DATE:20221029T180000
DTSTAMP:20260420T094812Z
LOCATION:Schaubühne Lindenfels 
DESCRIPTION:Lisa Hoppe ist Komponistin, Improvisatorin und Kontrabassistin.; Im Sommer 2021 – ein Jahr nach Beginn der Pandemie – rief sie das Quintett YSOP ins Leben, um Antworten auf essenzielle Fragen Ihres Schaffens und Seins zu finden.
SUMMARY:YSOP
ORGANIZER:Jazzclub Leipzig e.V.
URL;VALUE=URI:https://www.jazzclub-leipzig.de/kategorie-jazztage/ysop/
TRANSP:OPAQUE
BEGIN:VALARM
ACTION:DISPLAY
TRIGGER;VALUE=DATE-TIME:20221029T170000Z
DESCRIPTION:Erinnerung an YSOP
END:VALARM
END:VEVENT
END:VCALENDAR
