BEGIN:VCALENDAR
VERSION:2.0
PRODID:-//Jazzclub Leipzig e.V. //NONSGML Events //EN
CALSCALE:GREGORIAN
X-WR-CALNAME:Jazzclub Leipzig e.V.
BEGIN:VEVENT
X-CREATED:20220909T095535Z
UID:26858
DTEND;VALUE=DATE:20221024T223000
DTSTART;VALUE=DATE:20221024T203000
DTSTAMP:20260420T113341Z
LOCATION:WERK 2
DESCRIPTION:Eine Kooperation von WERK 2 & Leipziger Jazztage - Erst im vergangenen Jahr veröffentlichte das Trio mit Moses Yoofee an den Keys, Roman Klobe an Bass und Gitarre und Noah Fürbringer an den Drums sein Debüt. Trotzdem sind die drei Musiker aus Berlin längst stadtbekannt. Aber auch über die Grenzen der Hauptstadt hinaus bringt ihr lässiger Sound das Publikum zum Wippen.
SUMMARY:Moses Yoofee Trio I Support: Tremendous Aron
ORGANIZER:Jazzclub Leipzig e.V.
URL;VALUE=URI:https://www.jazzclub-leipzig.de/kategorie-jazztage/moses-yoofee-trio-i-support-tremendous-aaron/
TRANSP:OPAQUE
BEGIN:VALARM
ACTION:DISPLAY
TRIGGER;VALUE=DATE-TIME:20221024T193000Z
DESCRIPTION:Erinnerung an Moses Yoofee Trio I Support: Tremendous Aron
END:VALARM
END:VEVENT
END:VCALENDAR
