BEGIN:VCALENDAR
VERSION:2.0
PRODID:-//Jazzclub Leipzig e.V. //NONSGML Events //EN
CALSCALE:GREGORIAN
X-WR-CALNAME:Jazzclub Leipzig e.V.
BEGIN:VEVENT
X-CREATED:20220908T084149Z
UID:26836
DTEND;VALUE=DATE:20221027T213000
DTSTART;VALUE=DATE:20221027T193000
DTSTAMP:20260420T094800Z
LOCATION:Stadtbad (Saal)
DESCRIPTION:Doppelkonzert mit Tobias Hoffman Trio  - Jeder Song des Quartetts A Novel of Anomaly ist eine packende Kurzgeschichte, die von den individuellen Eigenschaften seiner Bandmitglieder lebt.
SUMMARY:Andreas Schaerer »A novel of Anomaly« ￼
ORGANIZER:Jazzclub Leipzig e.V.
URL;VALUE=URI:https://www.jazzclub-leipzig.de/kategorie-jazztage/andreas-schaerer-a-novel-of-anomaly/
TRANSP:OPAQUE
BEGIN:VALARM
ACTION:DISPLAY
TRIGGER;VALUE=DATE-TIME:20221027T183000Z
DESCRIPTION:Erinnerung an Andreas Schaerer »A novel of Anomaly« ￼
END:VALARM
END:VEVENT
END:VCALENDAR
