BEGIN:VCALENDAR
VERSION:2.0
PRODID:-//Jazzclub Leipzig e.V. //NONSGML Events //EN
CALSCALE:GREGORIAN
X-WR-CALNAME:Jazzclub Leipzig e.V.
BEGIN:VEVENT
X-CREATED:20220908T082913Z
UID:26830
DTEND;VALUE=DATE:20221024T200000
DTSTART;VALUE=DATE:20221024T180000
DTSTAMP:20260420T094759Z
LOCATION:Ost-Passage-Theater
DESCRIPTION:Doppelkonzert mit Abacaxi - Es ist eine Kennlerngeschichte, die – folgt man den dramaturgischen Regeln Hollywoods – zu einer musikalischen Liaison führen musste. Der Schlagzeuger Tatu Rönkkö (Liima, Play Your Kitchen) und Gitarrist Kalle Kalima (Klima Kalima, Momentum Impakto) spielten das erste Mal gemeinsam auf dem Dorfplatz eines Südtiroler Bergdorfes bei einem sogenannten Blind Date Gig.
SUMMARY:Tatu Rönkkö & Kalle Kalima »Lampen«
ORGANIZER:Jazzclub Leipzig e.V.
URL;VALUE=URI:https://www.jazzclub-leipzig.de/kategorie-jazztage/tatu-roenkkoe-kalle-kalima-lampen/
TRANSP:OPAQUE
BEGIN:VALARM
ACTION:DISPLAY
TRIGGER;VALUE=DATE-TIME:20221024T170000Z
DESCRIPTION:Erinnerung an Tatu Rönkkö &#038\; Kalle Kalima »Lampen«
END:VALARM
END:VEVENT
END:VCALENDAR
