BEGIN:VCALENDAR
VERSION:2.0
PRODID:-//Jazzclub Leipzig e.V. //NONSGML Events //EN
CALSCALE:GREGORIAN
X-WR-CALNAME:Jazzclub Leipzig e.V.
BEGIN:VEVENT
X-CREATED:20220908T082149Z
UID:26826
DTEND;VALUE=DATE:20221023T220000
DTSTART;VALUE=DATE:20221023T200000
DTSTAMP:20260420T094758Z
LOCATION:Ost-Passage-Theater
DESCRIPTION:Doppelkonzert mit Askari und Sabbagh - Es treffen zwei der erfahrensten Musiker in Sachen improvisierter Musik – die man übrigens ohne eine Spur der Übertreibung als Legenden bezeichnen kann – auf einen jungen Akkordeonisten aus Norwegen. Das Ergebnis: Free Jazz at it’s finest!
SUMMARY:Lytton/ Moberg/ Wachsmann »The Punk & The Gaffers«
ORGANIZER:Jazzclub Leipzig e.V.
URL;VALUE=URI:https://www.jazzclub-leipzig.de/kategorie-jazztage/the-punk-the-gaffers/
TRANSP:OPAQUE
BEGIN:VALARM
ACTION:DISPLAY
TRIGGER;VALUE=DATE-TIME:20221023T190000Z
DESCRIPTION:Erinnerung an Lytton/ Moberg/ Wachsmann »The Punk &#038\; The Gaffers«
END:VALARM
END:VEVENT
END:VCALENDAR
