BEGIN:VCALENDAR
VERSION:2.0
PRODID:-//Jazzclub Leipzig e.V. //NONSGML Events //EN
CALSCALE:GREGORIAN
X-WR-CALNAME:Jazzclub Leipzig e.V.
BEGIN:VEVENT
X-CREATED:20220905T201042Z
UID:26781
DTEND;VALUE=DATE:20221023T013000
DTSTART;VALUE=DATE:20221022T233000
DTSTAMP:20260420T094815Z
LOCATION:WERK 2 
DESCRIPTION:Doppelkonzert mit Moritz von Oswald - In ihrem gemeinsamen Projekt TAU5 kommen fünf erfolgreiche Musiker der jungen deutschen Jazzszene zusammen: Philipp Gropper am Saxophon, Philip Zoubek an Synthesizern und Keys, Ludwig Wandinger mit Electronic Mix und Editing, Felix Henkelhausen an Bass und Electronics sowie Moritz Baumgärtner am Schlagzeug.
SUMMARY:Tau5
ORGANIZER:Jazzclub Leipzig e.V.
URL;VALUE=URI:https://www.jazzclub-leipzig.de/kategorie-jazztage/tau5/
TRANSP:OPAQUE
BEGIN:VALARM
ACTION:DISPLAY
TRIGGER;VALUE=DATE-TIME:20221022T223000Z
DESCRIPTION:Erinnerung an Tau5
END:VALARM
END:VEVENT
END:VCALENDAR
