BEGIN:VCALENDAR
VERSION:2.0
PRODID:-//Jazzclub Leipzig e.V. //NONSGML Events //EN
CALSCALE:GREGORIAN
X-WR-CALNAME:Jazzclub Leipzig e.V.
BEGIN:VEVENT
X-CREATED:20220905T192012Z
UID:26771
DTEND;VALUE=DATE:20221028T213000
DTSTART;VALUE=DATE:20221028T193000
DTSTAMP:20260420T094754Z
LOCATION:UT Connewitz\, Wolfgang-Heinze-Straße 12 a\, 04277 Leipzig
DESCRIPTION:Mit seinem neuesten Projekt »The Buchla Suite« widmet sich Stefan Schultze's Large Ensemble Morton Subotnicks Komposition »Silver Apples of the Moon« aus dem Jahr 1967. In diesem besonderen Klangexperiment begeben sich die elf Musiker*innen auf eine formale und ästhetische Erkundung, die herausfinden möchte, wie ein Ensemble die Funktionalität eines Synthesizers implementieren kann.
SUMMARY:Stefan Schultze’s Large Ensemble
ORGANIZER:Jazzclub Leipzig e.V.
URL;VALUE=URI:https://www.jazzclub-leipzig.de/kategorie-jazztage/buchla-suite/
TRANSP:OPAQUE
BEGIN:VALARM
ACTION:DISPLAY
TRIGGER;VALUE=DATE-TIME:20221028T183000Z
DESCRIPTION:Erinnerung an Stefan Schultze&#8217\;s Large Ensemble
END:VALARM
END:VEVENT
END:VCALENDAR
