BEGIN:VCALENDAR
VERSION:2.0
PRODID:-//Jazzclub Leipzig e.V. //NONSGML Events //EN
CALSCALE:GREGORIAN
X-WR-CALNAME:Jazzclub Leipzig e.V.
BEGIN:VEVENT
X-CREATED:20220902T134758Z
UID:26756
DTEND;VALUE=DATE:20221025T230000
DTSTART;VALUE=DATE:20221025T210000
DTSTAMP:20260420T094813Z
LOCATION:WERK 2 
DESCRIPTION:Doppelkonzert mit Theo Croker - Im Alter von elf Jahren entdeckte Jas Kayser das Schlagzeug für sich. Rund fünfzehn Jahre später, im April dieses Jahres, veröffentlichte sie ihr Debütalbum und ist damit derzeit eine der aufregendsten Newcomer der jungen britischen Jazzszene.
SUMMARY:Jas Kayser
ORGANIZER:Jazzclub Leipzig e.V.
URL;VALUE=URI:https://www.jazzclub-leipzig.de/kategorie-jazztage/jas-kayser/
TRANSP:OPAQUE
BEGIN:VALARM
ACTION:DISPLAY
TRIGGER;VALUE=DATE-TIME:20221025T200000Z
DESCRIPTION:Erinnerung an Jas Kayser
END:VALARM
END:VEVENT
END:VCALENDAR
