BEGIN:VCALENDAR
VERSION:2.0
PRODID:-//Jazzclub Leipzig e.V. //NONSGML Events //EN
CALSCALE:GREGORIAN
X-WR-CALNAME:Jazzclub Leipzig e.V.
BEGIN:VEVENT
X-CREATED:20220825T154907Z
UID:26658
DTEND;VALUE=DATE:20221026T200000
DTSTART;VALUE=DATE:20221026T180000
DTSTAMP:20260420T094814Z
LOCATION:die naTo
DESCRIPTION:Stimmungsvoll melodischer Jazz, der seine Energie aus sehnsuchtsvollen Melodien, tiefgründigen Harmonien und ausdrucksstarken Rhythmen zieht – so lässt sich die Musik des Shuteen Erdenebaatar Quartetts beschreiben. (BMW Young Artist Jazz Award)
SUMMARY:Shuteen Erdenebaatar Quartett
ORGANIZER:Jazzclub Leipzig e.V.
URL;VALUE=URI:https://www.jazzclub-leipzig.de/kategorie-jazztage/shuteen-erdenebaatar-quartett/
TRANSP:OPAQUE
BEGIN:VALARM
ACTION:DISPLAY
TRIGGER;VALUE=DATE-TIME:20221026T170000Z
DESCRIPTION:Erinnerung an Shuteen Erdenebaatar Quartett
END:VALARM
END:VEVENT
END:VCALENDAR
