BEGIN:VCALENDAR
VERSION:2.0
PRODID:-//Jazzclub Leipzig e.V. //NONSGML Events //EN
CALSCALE:GREGORIAN
X-WR-CALNAME:Jazzclub Leipzig e.V.
BEGIN:VEVENT
X-CREATED:20220825T152336Z
UID:26653
DTEND;VALUE=DATE:20221027T003000
DTSTART;VALUE=DATE:20221026T223000
DTSTAMP:20260420T113402Z
LOCATION:die naTo
DESCRIPTION:Auf der Suche nach neuen musikalischen Herausforderungen versammelt Schlagzeuger Jim Black einige der aufregendsten Musiker der jungen Berliner Jazz-Szene um sich: Asger Nissen am Altsaxophon, Julius Gawlik am Tenorsaxophon und Bassist Felix Henkelhausen.
SUMMARY:Jim & The Schrimps
ORGANIZER:Jazzclub Leipzig e.V.
URL;VALUE=URI:https://www.jazzclub-leipzig.de/kategorie-jazztage/jim-the-schrimps/
TRANSP:OPAQUE
BEGIN:VALARM
ACTION:DISPLAY
TRIGGER;VALUE=DATE-TIME:20221026T213000Z
DESCRIPTION:Erinnerung an Jim &#038\; The Schrimps
END:VALARM
END:VEVENT
END:VCALENDAR
