BEGIN:VCALENDAR
VERSION:2.0
PRODID:-//Jazzclub Leipzig e.V. //NONSGML Events //EN
CALSCALE:GREGORIAN
X-WR-CALNAME:Jazzclub Leipzig e.V.
BEGIN:VEVENT
X-CREATED:20220825T133206Z
UID:26611
DTEND;VALUE=DATE:20221025T230000
DTSTART;VALUE=DATE:20221025T210000
DTSTAMP:20260420T094816Z
LOCATION:WERK 2
DESCRIPTION:Doppelkonzert mit Jas Kayser - Er ist ein virtuoser Trompeter, Komponist und Produzent – doch das genügt noch lange nicht um den US-amerikanischen Musiker Theo Croker zu beschreiben. Mit seiner Musik wird er zum Abenteurer, ist Geschichtenerzähler und in alldem stets modern. Kein Wunder also, dass er den Begriff Jazz gerne ausdehnt: So changiert seine Musik zwischen Jazz, Post-Bop, Funk und Soul. Dazwischen mischen sich elektronisch angehauchte Fusionen und afrofuturistische Energien.
SUMMARY:Theo Croker – Love Quantum
ORGANIZER:Jazzclub Leipzig e.V.
URL;VALUE=URI:https://www.jazzclub-leipzig.de/kategorie-jazztage/theo-croker/
TRANSP:OPAQUE
BEGIN:VALARM
ACTION:DISPLAY
TRIGGER;VALUE=DATE-TIME:20221025T200000Z
DESCRIPTION:Erinnerung an Theo Croker &#8211\; Love Quantum
END:VALARM
END:VEVENT
END:VCALENDAR
