BEGIN:VCALENDAR
VERSION:2.0
PRODID:-//Jazzclub Leipzig e.V. //NONSGML Events //EN
CALSCALE:GREGORIAN
X-WR-CALNAME:Jazzclub Leipzig e.V.
BEGIN:VEVENT
X-CREATED:20220823T132402Z
UID:26552
DTEND;VALUE=DATE:20221022T210000
DTSTART;VALUE=DATE:20221022T190000
DTSTAMP:20260420T094758Z
LOCATION:Oper Leipzig 
DESCRIPTION:Komponist und Pianist Abdullah Ibrahim ist einer der bekanntesten und erfolgreichsten Musiker Südafrikas. Inspiriert von Duke Ellington und John Coltrane, den US-amerikanischen Jazz-Größen seiner Zeit, kreierte er unter seinem Pseudonym Dollar Brand schon früh einen eigenen Stil. Dieser ist bis heute fest mit seiner afrikanischen Herkunft verbunden.
SUMMARY:Abdullah Ibrahim
ORGANIZER:Jazzclub Leipzig e.V.
URL;VALUE=URI:https://www.jazzclub-leipzig.de/kategorie-jazztage/abdullah-ibrahim/
TRANSP:OPAQUE
BEGIN:VALARM
ACTION:DISPLAY
TRIGGER;VALUE=DATE-TIME:20221022T180000Z
DESCRIPTION:Erinnerung an Abdullah Ibrahim
END:VALARM
END:VEVENT
END:VCALENDAR
